BEGIN:VCALENDAR
VERSION:2.0
PRODID:-//Libreria Macaione | Spazio Cultura - ECPv5.7.0//NONSGML v1.0//EN
CALSCALE:GREGORIAN
METHOD:PUBLISH
X-WR-CALNAME:Libreria Macaione | Spazio Cultura
X-ORIGINAL-URL:https://spazioculturalibri.it
X-WR-CALDESC:Eventi per Libreria Macaione | Spazio Cultura
BEGIN:VTIMEZONE
TZID:Europe/Rome
BEGIN:DAYLIGHT
TZOFFSETFROM:+0100
TZOFFSETTO:+0200
TZNAME:CEST
DTSTART:20250330T010000
END:DAYLIGHT
BEGIN:STANDARD
TZOFFSETFROM:+0200
TZOFFSETTO:+0100
TZNAME:CET
DTSTART:20251026T010000
END:STANDARD
END:VTIMEZONE
BEGIN:VEVENT
DTSTART;TZID=Europe/Rome:20250403T173000
DTEND;TZID=Europe/Rome:20250403T193000
DTSTAMP:20260421T174101
CREATED:20250327T152116Z
LAST-MODIFIED:20250327T152116Z
UID:5881-1743701400-1743708600@spazioculturalibri.it
SUMMARY:A Spazio Cultura è Tempo di Poesia con Patrizia Amalfi
DESCRIPTION:Giovedì 3 aprile alle ore 17:30\, a Spazio Cultura Libreria Macaione\, via Marchese di Villabianca\, 102 – Palermo\, incontro con Patrizia Amalfi per la presentazione della sua raccolta di versi L’amore capovolto\, pubblicato da Le Mezzelane Casa Editrice.\n.\nA dialogare con l’autrice sarà il professore Salvatore Lo Bue\, docente di Storia della Poesia e Formazione Estetica\, Università di Palermo.\n.\n\n.\nBisogna svegliarsi\npresto oppure fra mille anni\nper non morire…\nE tu anima mia t’eclissi.\n.\nPatrizia Amalfi\, laureata in filosofia e scienze etiche\, è stata per molti anni insegnante di scuola dell’infanzia\, con la passione mai sopita per la lettura e la scrittura.\nIn seguito alla partecipazione al secondo concorso “Note d’inchiostro” ha ricevuto il premio speciale “Read and play” per una poesia dedicata a Ezio Bosso\, inserita nell’antologia di racconti e poesie edita da Le Mezzelane Casa Editrice.\nLa sua produzione letteraria continua ed è imminente l’uscita del romanzo “Nel nome dei padri” con la casa editrice Antipodes.\nCondividi su:
URL:https://spazioculturalibri.it/evento/a-spazio-cultura-e-tempo-di-poesia-con-patrizia-amalfi/
LOCATION:Spazio Cultura Libreria Macaione\, Via Marchese di Villabianca\, 102\, Palermo\, Palermo\, 90143\, Italia
ATTACH;FMTTYPE=image/jpeg:https://spazioculturalibri.it/wp-content/uploads/2025/03/Patrizia-Amalfi-650x765-1.jpg
END:VEVENT
END:VCALENDAR