BEGIN:VCALENDAR
VERSION:2.0
PRODID:-//Libreria Macaione | Spazio Cultura - ECPv5.7.0//NONSGML v1.0//EN
CALSCALE:GREGORIAN
METHOD:PUBLISH
X-WR-CALNAME:Libreria Macaione | Spazio Cultura
X-ORIGINAL-URL:https://spazioculturalibri.it
X-WR-CALDESC:Eventi per Libreria Macaione | Spazio Cultura
BEGIN:VTIMEZONE
TZID:Europe/Rome
BEGIN:DAYLIGHT
TZOFFSETFROM:+0100
TZOFFSETTO:+0200
TZNAME:CEST
DTSTART:20250330T010000
END:DAYLIGHT
BEGIN:STANDARD
TZOFFSETFROM:+0200
TZOFFSETTO:+0100
TZNAME:CET
DTSTART:20251026T010000
END:STANDARD
END:VTIMEZONE
BEGIN:VEVENT
DTSTART;TZID=Europe/Rome:20250717T173000
DTEND;TZID=Europe/Rome:20250717T193000
DTSTAMP:20260420T135955
CREATED:20250710T102452Z
LAST-MODIFIED:20250710T104454Z
UID:6131-1752773400-1752780600@spazioculturalibri.it
SUMMARY:A Spazio Cultura incontro con lo scrittore Giampaolo Frezza 
DESCRIPTION:Giovedì 17 luglio alle ore 17:30\, a Spazio Cultura Libreria Macaione\, via Marchese di Villabianca\, 102 – Palermo\, verrà presentato il libro di Giampaolo Frezza Palermo spasima\, novità editoriale di Rubbettino Editore.\n.\nAll’incontro sarà presente l’autore che dialogherà con il professore Pietro Virgadamo.\n.\nSarà piacevole\, al termine\, degustare un vino insieme all’autore.\n.\nGiampaolo Frezza è professore ordinario di Istituzioni di diritto privato presso la sede palermitana dell’Università Lumsa. È autore di cinque monografie\, di un centinaio di saggi scientifici e di numerose altre opere minori. È collezionista di arte contemporanea ed esperto\, fra l’altro\, dello studio dei rapporti fra diritto e arte. Il suo volume\, dal titolo Arte e diritto fra autenticazione e accertamento\, ha vinto due premi di eccellenza scientifica\, in Italia e in Spagna.\nOriginario di Viterbo\, vive e lavora a Palermo.\n\nLa scoperta di una Città. L’arrivo\, i primi approcci\, la conoscenza\, l’innamoramento e\, infine\, l’amore puro. In cammino\, negli anni\, con passi smaniosi\, solitari e tormentati\, verso la ricerca del bello. Non si manifestava\, restava nell’ombra dei vicoli abbandonati\, tra palazzi dimenticati\, immondizia e odori intrisi di vita vissuta e rumorosa. Il decadentismo si rendeva vita: contrasti\, ossimori\, delusioni\, munnizza\, vastasi. Nel buio\, dunque\, lo spasimo: questo legame eterno non cambiava nome nelle ombre della Città\, ma coglieva in esse una dolce speranza di luce. Un luogo che si manifestava come un unico popolo\, un solo cuore\, una stessa bontà dell’iride che non si poteva nascondere\, neanche quando il più apparentemente snob dei suoi figli provava\, con un tentativo tenero e fallace\, di celarla. La ferma certezza che Lei\, la Città\, tornava sempre a volare e la Sua forza\, la Sua bellezza\, la Sua unicità\, anche quando tutto appariva solo nero\, era saper irradiare sempre il suo invincibile rosa.\nCondividi su:
URL:https://spazioculturalibri.it/evento/a-spazio-cultura-incontro-con-lo-scrittore-giampaolo-frezza/
LOCATION:Spazio Cultura Libreria Macaione\, Via Marchese di Villabianca\, 102\, Palermo\, Palermo\, 90143\, Italia
ATTACH;FMTTYPE=image/jpeg:https://spazioculturalibri.it/wp-content/uploads/2025/07/Giampaolo-Frezza-770x619-1.jpg
END:VEVENT
END:VCALENDAR