BEGIN:VCALENDAR
VERSION:2.0
PRODID:-//Libreria Macaione | Spazio Cultura - ECPv5.7.0//NONSGML v1.0//EN
CALSCALE:GREGORIAN
METHOD:PUBLISH
X-WR-CALNAME:Libreria Macaione | Spazio Cultura
X-ORIGINAL-URL:https://spazioculturalibri.it
X-WR-CALDESC:Eventi per Libreria Macaione | Spazio Cultura
BEGIN:VTIMEZONE
TZID:Europe/Rome
BEGIN:DAYLIGHT
TZOFFSETFROM:+0100
TZOFFSETTO:+0200
TZNAME:CEST
DTSTART:20250330T010000
END:DAYLIGHT
BEGIN:STANDARD
TZOFFSETFROM:+0200
TZOFFSETTO:+0100
TZNAME:CET
DTSTART:20251026T010000
END:STANDARD
END:VTIMEZONE
BEGIN:VEVENT
DTSTART;TZID=Europe/Rome:20250618T173000
DTEND;TZID=Europe/Rome:20250618T193000
DTSTAMP:20260420T205000
CREATED:20250611T155400Z
LAST-MODIFIED:20250618T103527Z
UID:6056-1750267800-1750275000@spazioculturalibri.it
SUMMARY:A Spazio Cultura "La formula magica" di Nicola Oddati 
DESCRIPTION:Mercoledì 18 giugno alle ore 17:30\, a Spazio Cultura Libreria Macaione\, via Marchese di Villabianca\, 102 – Palermo\, verrà presentato il libro di Nicola Oddati La formula magica\, un noir in cui il protagonista è professore di matematica Pietro Maiorana che attraverso ragionamenti matematici risolve i casi più complessi\, novità editoriale di Spazio Cultura Edizioni.\nIl libro è stato presentato in anteprima al Salone Internazionale del Libro di Torino e in diverse città italiane dove ha riscosso grande successo e adesso a Palermo. \n.\nA dialogare con l’autore saranno lo scrittore Salvatore Nocera Bracco\, il direttore editoriale della collana Alfredo Sant’Angelo e l’editore Nicola Macaione.\nAll’incontro saranno presenti la editor Federica Balistreri che ha curato il testo originale e l’artista Jin Septième (Luigi Conticelli) che ha realizzato la copertina del libro.\nhttps://spazioculturalibri.it/prodotto/la-formula/\n\nCondividi su:
URL:https://spazioculturalibri.it/evento/a-spazio-cultura-la-formula-magica-di-nicola-oddati/
LOCATION:Spazio Cultura Libreria Macaione\, Via Marchese di Villabianca\, 102\, Palermo\, Palermo\, 90143\, Italia
ATTACH;FMTTYPE=image/jpeg:https://spazioculturalibri.it/wp-content/uploads/2025/05/foto-bio-la-formula-4-PROVA.jpg
END:VEVENT
END:VCALENDAR