BEGIN:VCALENDAR
VERSION:2.0
PRODID:-//Libreria Macaione | Spazio Cultura - ECPv5.7.0//NONSGML v1.0//EN
CALSCALE:GREGORIAN
METHOD:PUBLISH
X-WR-CALNAME:Libreria Macaione | Spazio Cultura
X-ORIGINAL-URL:https://spazioculturalibri.it
X-WR-CALDESC:Eventi per Libreria Macaione | Spazio Cultura
BEGIN:VTIMEZONE
TZID:Europe/Rome
BEGIN:DAYLIGHT
TZOFFSETFROM:+0100
TZOFFSETTO:+0200
TZNAME:CEST
DTSTART:20250330T010000
END:DAYLIGHT
BEGIN:STANDARD
TZOFFSETFROM:+0200
TZOFFSETTO:+0100
TZNAME:CET
DTSTART:20251026T010000
END:STANDARD
END:VTIMEZONE
BEGIN:VEVENT
DTSTART;TZID=Europe/Rome:20250325T173000
DTEND;TZID=Europe/Rome:20250325T193000
DTSTAMP:20260419T211123
CREATED:20250318T173131Z
LAST-MODIFIED:20250318T180624Z
UID:5844-1742923800-1742931000@spazioculturalibri.it
SUMMARY:A Spazio Cultura la raccolta fondi per le "Uova del sorriso" grazie alla presentazione del libro di Francesca Maccani
DESCRIPTION:Martedì 25 marzo alle ore 17:30\, a Spazio Cultura Libreria Macaione\, via Marchese di Villabianca\, 102 – Palermo\, verrà presentato il libro di Francesca Maccani Agata del vento. Un romanzo di mare e di cielo\, pubblicato da Rizzoli.\n.\nIspirandosi alla storia vera\, mai raccontata\, di una guaritrice di Lipari\, Francesca Maccani ha scritto un romanzo potente e suggestivo\, che ci immerge nella magia e nelle tradizioni arcane delle Eolie e sa parlarci ancora oggi di passione e rinascita\, di fame d’amore e coraggio di cercare la propria strada.\n.\nL’iniziativa nasce dalla collaborazione tra l’Associazione Crocerossine d’Italia e Spazio Cultura per raccogliere fondi a favore dell’Unità Operativa Ematologia e Talassemia A.R.N.A.S. del Civico di Palermo e parte del ricavato della vendita del libro servirà all’acquisto delle Uova di Pasqua per i bambini ospiti del Centro Sanitario.\n.\nAll’incontro sarà presente l’autrice che\, dopo i saluti della responsabile dell’Associazione Crocerossine d’Italia Sezione di Palermo Maria Rosaria Ales  e il direttore del reparto di ematologia pediatrica del Civico di Palermo Giovan Battista Ruffo\, dialogherà con la vice presidente nazionale dell’Associazione Crocerossine d’Italia Anna Di Marzo\, il presidente dell’VIII Circoscrizione Comune di Palermo Marcello Longo e il libraio Nicola Macaione.\nCondividi su:
URL:https://spazioculturalibri.it/evento/a-spazio-cultura-la-raccolta-fondi-per-le-uova-del-sorriso-grazie-alla-presentazione-del-libro-di-francesca-maccani/
LOCATION:Spazio Cultura Libreria Macaione\, Via Marchese di Villabianca\, 102\, Palermo\, Palermo\, 90143\, Italia
ATTACH;FMTTYPE=image/jpeg:https://spazioculturalibri.it/wp-content/uploads/2024/02/locandina-uova_page-0001.jpg
END:VEVENT
END:VCALENDAR