BEGIN:VCALENDAR
VERSION:2.0
PRODID:-//Libreria Macaione | Spazio Cultura - ECPv5.7.0//NONSGML v1.0//EN
CALSCALE:GREGORIAN
METHOD:PUBLISH
X-WR-CALNAME:Libreria Macaione | Spazio Cultura
X-ORIGINAL-URL:https://spazioculturalibri.it
X-WR-CALDESC:Eventi per Libreria Macaione | Spazio Cultura
BEGIN:VTIMEZONE
TZID:Europe/Rome
BEGIN:DAYLIGHT
TZOFFSETFROM:+0100
TZOFFSETTO:+0200
TZNAME:CEST
DTSTART:20260329T010000
END:DAYLIGHT
BEGIN:STANDARD
TZOFFSETFROM:+0200
TZOFFSETTO:+0100
TZNAME:CET
DTSTART:20261025T010000
END:STANDARD
END:VTIMEZONE
BEGIN:VEVENT
DTSTART;TZID=Europe/Rome:20260220T173000
DTEND;TZID=Europe/Rome:20260220T193000
DTSTAMP:20260419T150833
CREATED:20260213T141744Z
LAST-MODIFIED:20260213T141744Z
UID:6553-1771608600-1771615800@spazioculturalibri.it
SUMMARY:A Spazio Cultura "Oltre il nero"Il romanzo d'esordio di Monica Sapio
DESCRIPTION:Venerdì 20 febbraio alle ore 17:30\, a Spazio Cultura Libreria Macaione\, via Marchese di Villabianca\, 102 – Palermo\, verrà presentato il libro di Monica Sapio Oltre il nero\, novità editoriale di Scatole Parlanti.\n.\nOltre il nero è un romanzo che non cerca risposte rassicuranti. È un libro che accompagna il lettore fino a una soglia — e lì si ferma. E forse il suo gesto più radicale è proprio questo: lasciarci davanti a ciò che non si può spiegare\, solo sentire. Una storia che scava\, “illumina” e sorprende.\nAdele Musso\n–\nAll’incontro sarà presente autrice che dialogherà con la poetessa Adele Musso\, Claudia Villani\, artista linguaggi sperimentali e lo scrittore e poeta Fabrizio Sapio.\n–\nMonica Sapio è nata a Palermo nel 1959. Medico anestesista e terapista del dolore\, oggi libero professionista. Ideatrice e conduttrice di laboratori di medicina narrativa e co-conduttrice di protocolli di sostegno e cura di malati cronici attraverso la scrittura e altre forme di arte in chiave trasformativa\, dal 2013 si dedica anche alla scrittura. Alcuni suoi racconti brevi sono stati pubblicati sul blog “Apertura A Strappo”\, con cui ha collaborato fino al 2018. Oltre il nero è il suo primo romanzo.\nCondividi su:
URL:https://spazioculturalibri.it/evento/a-spazio-cultura-oltre-il-neroil-romanzo-desordio-di-monica-sapio/
LOCATION:Spazio Cultura Libreria Macaione\, Via Marchese di Villabianca\, 102\, Palermo\, Palermo\, 90143\, Italia
ATTACH;FMTTYPE=image/jpeg:https://spazioculturalibri.it/wp-content/uploads/2026/02/71won5fvXqL._AC_UF10001000_QL80_.jpg
END:VEVENT
END:VCALENDAR