BEGIN:VCALENDAR
VERSION:2.0
PRODID:-//Libreria Macaione | Spazio Cultura - ECPv5.7.0//NONSGML v1.0//EN
CALSCALE:GREGORIAN
METHOD:PUBLISH
X-WR-CALNAME:Libreria Macaione | Spazio Cultura
X-ORIGINAL-URL:https://spazioculturalibri.it
X-WR-CALDESC:Eventi per Libreria Macaione | Spazio Cultura
BEGIN:VTIMEZONE
TZID:Europe/Rome
BEGIN:DAYLIGHT
TZOFFSETFROM:+0100
TZOFFSETTO:+0200
TZNAME:CEST
DTSTART:20250330T010000
END:DAYLIGHT
BEGIN:STANDARD
TZOFFSETFROM:+0200
TZOFFSETTO:+0100
TZNAME:CET
DTSTART:20251026T010000
END:STANDARD
END:VTIMEZONE
BEGIN:VEVENT
DTSTART;TZID=Europe/Rome:20250617T173000
DTEND;TZID=Europe/Rome:20250617T193000
DTSTAMP:20260420T224401
CREATED:20250610T132450Z
LAST-MODIFIED:20250611T142731Z
UID:6043-1750181400-1750188600@spazioculturalibri.it
SUMMARY:MAFIA & PIZZO "Pagare non paga"Il nuovo libro di Elio Sanfilippo e Maurizio Scaglione per richiamare l’attenzione al fenomeno odioso del Pizzo 
DESCRIPTION:Martedì 17 giugno alle ore 17:30 a Villa Magnisi\, sede dell’Ordine dei Medici di Palermo\, via Padre Rosario da Partanna\, 22\, verrà presentato il libro di Elio Sanfilippo e Maurizio Scaglione MAFIA & PIZZO “Pagare non paga”\, novità editoriale di Spazio Cultura Edizioni.\n.\nAll’incontro saranno presenti gli autori e l’editore Nicola Macaione.\n.\nDopo i saluti del presidente dell’Ordine dei Medici di Palermo Toti Amato sono previsti gli interventi del Sindaco di Palermo Roberto Lagalla\, il presidente dell’azienda vinicola Tenuta Rapitalà Nino Caleca e il magistrato Gioacchino Natoli.\nA moderare l’incontro sarà la giornalista Maria Calabrese direttore responsabile de “ilSicilia.it“. \n.\n La mafia è un fenomeno sociale e come tale\, dalla sua nascita ai giorni nostri\, si è adeguata ai cambiamenti economici\, finanziari e perfino urbanistici della nostra amata terra di Sicilia. Come dimostrato nelle pagine di questo libro\, non esiste nessuna “messa a posto”\, nessuna assicurazione sulla vita e sulla propria attività. C’è solo il pagamento di un pizzo per mantenere una sorta di pace apparente\, evitando che la criminalità organizzata ricorra a forme di ritorsione che possano danneggiare le attività commerciali e imprenditoriali.\n \n.\nhttps://spazioculturalibri.it/prodotto/mafia-pizzopagare-non-paga/\n\nCondividi su:
URL:https://spazioculturalibri.it/evento/mafia-pizzo-pagare-non-pagail-nuovo-libro-di-elio-sanfilippo-e-maurizio-scaglione-per-richiamare-lattenzione-al-fenomeno-odioso-del-pizzo/
LOCATION:Villa Magnisi c/o Ordine dei Medici di Palermo\, Via Padre Rosario da Partanna\, 22\, Palermo\, 90146\, Italia
ATTACH;FMTTYPE=image/jpeg:https://spazioculturalibri.it/wp-content/uploads/2025/05/Copertina_mafiaepizzo_web.jpg
END:VEVENT
END:VCALENDAR